BEGIN:VCALENDAR
VERSION:2.0
PRODID:-//Przedszkole Niepubliczne Sióstr Felicjanek - ECPv5.2.1//NONSGML v1.0//EN
CALSCALE:GREGORIAN
METHOD:PUBLISH
X-WR-CALNAME:Przedszkole Niepubliczne Sióstr Felicjanek
X-ORIGINAL-URL:https://felicjanki-gorlice.pl
X-WR-CALDESC:Wydarzenia na Przedszkole Niepubliczne Sióstr Felicjanek
BEGIN:VTIMEZONE
TZID:Europe/Warsaw
BEGIN:DAYLIGHT
TZOFFSETFROM:+0100
TZOFFSETTO:+0200
TZNAME:CEST
DTSTART:20230326T010000
END:DAYLIGHT
BEGIN:STANDARD
TZOFFSETFROM:+0200
TZOFFSETTO:+0100
TZNAME:CET
DTSTART:20231029T010000
END:STANDARD
END:VTIMEZONE
BEGIN:VEVENT
DTSTART;TZID=Europe/Warsaw:20230510T124500
DTEND;TZID=Europe/Warsaw:20230510T134500
DTSTAMP:20260419T222236
CREATED:20230325T100536Z
LAST-MODIFIED:20230325T100848Z
UID:20234-1683722700-1683726300@felicjanki-gorlice.pl
SUMMARY:Teatr Eden "Opowieść o dobrym człowieku"
DESCRIPTION:
URL:https://felicjanki-gorlice.pl/uroczystosc/wyjscie-do-biblioteki/
END:VEVENT
END:VCALENDAR