BEGIN:VCALENDAR
VERSION:2.0
PRODID:-//Przedszkole Niepubliczne Sióstr Felicjanek - ECPv5.2.1//NONSGML v1.0//EN
CALSCALE:GREGORIAN
METHOD:PUBLISH
X-WR-CALNAME:Przedszkole Niepubliczne Sióstr Felicjanek
X-ORIGINAL-URL:https://felicjanki-gorlice.pl
X-WR-CALDESC:Wydarzenia na Przedszkole Niepubliczne Sióstr Felicjanek
BEGIN:VTIMEZONE
TZID:Europe/Warsaw
BEGIN:DAYLIGHT
TZOFFSETFROM:+0100
TZOFFSETTO:+0200
TZNAME:CEST
DTSTART:20230326T010000
END:DAYLIGHT
BEGIN:STANDARD
TZOFFSETFROM:+0200
TZOFFSETTO:+0100
TZNAME:CET
DTSTART:20231029T010000
END:STANDARD
END:VTIMEZONE
BEGIN:VEVENT
DTSTART;TZID=Europe/Warsaw:20230421T093000
DTEND;TZID=Europe/Warsaw:20230421T103000
DTSTAMP:20260420T001442
CREATED:20230325T100134Z
LAST-MODIFIED:20230325T100134Z
UID:20220-1682069400-1682073000@felicjanki-gorlice.pl
SUMMARY:"Z przyrodą na żywo" - przyrodnicze warsztaty ekologiczne
DESCRIPTION:
URL:https://felicjanki-gorlice.pl/uroczystosc/z-przyroda-na-zywo-przyrodnicze-warsztaty-ekologiczne/
END:VEVENT
END:VCALENDAR