BEGIN:VCALENDAR
VERSION:2.0
PRODID:-//Przedszkole Niepubliczne Sióstr Felicjanek - ECPv5.2.1//NONSGML v1.0//EN
CALSCALE:GREGORIAN
METHOD:PUBLISH
X-WR-CALNAME:Przedszkole Niepubliczne Sióstr Felicjanek
X-ORIGINAL-URL:https://felicjanki-gorlice.pl
X-WR-CALDESC:Wydarzenia na Przedszkole Niepubliczne Sióstr Felicjanek
BEGIN:VTIMEZONE
TZID:Europe/Warsaw
BEGIN:DAYLIGHT
TZOFFSETFROM:+0100
TZOFFSETTO:+0200
TZNAME:CEST
DTSTART:20210328T010000
END:DAYLIGHT
BEGIN:STANDARD
TZOFFSETFROM:+0200
TZOFFSETTO:+0100
TZNAME:CET
DTSTART:20211031T010000
END:STANDARD
END:VTIMEZONE
BEGIN:VEVENT
DTSTART;TZID=Europe/Warsaw:20211223T110000
DTEND;TZID=Europe/Warsaw:20211223T133000
DTSTAMP:20260420T055204
CREATED:20211017T131720Z
LAST-MODIFIED:20211128T123641Z
UID:14427-1640257200-1640266200@felicjanki-gorlice.pl
SUMMARY:Wigilia w przedszkolu
DESCRIPTION:
URL:https://felicjanki-gorlice.pl/uroczystosc/wigilia-w-przedszkolu-2/
LOCATION:Przedszkole Sióstr Felicjanek w Gorlicach\, ul. Krasińskiego 21\, Gorlice\, Młopolskie\, 38-300\, Polska
END:VEVENT
END:VCALENDAR