BEGIN:VCALENDAR
VERSION:2.0
PRODID:-//Przedszkole Niepubliczne Sióstr Felicjanek - ECPv5.2.1//NONSGML v1.0//EN
CALSCALE:GREGORIAN
METHOD:PUBLISH
X-WR-CALNAME:Przedszkole Niepubliczne Sióstr Felicjanek
X-ORIGINAL-URL:https://felicjanki-gorlice.pl
X-WR-CALDESC:Wydarzenia na Przedszkole Niepubliczne Sióstr Felicjanek
BEGIN:VTIMEZONE
TZID:Europe/Warsaw
BEGIN:DAYLIGHT
TZOFFSETFROM:+0100
TZOFFSETTO:+0200
TZNAME:CEST
DTSTART:20220327T010000
END:DAYLIGHT
BEGIN:STANDARD
TZOFFSETFROM:+0200
TZOFFSETTO:+0100
TZNAME:CET
DTSTART:20221030T010000
END:STANDARD
END:VTIMEZONE
BEGIN:VEVENT
DTSTART;VALUE=DATE:20220412
DTEND;VALUE=DATE:20220413
DTSTAMP:20260420T091149
CREATED:20211017T141352Z
LAST-MODIFIED:20211017T141352Z
UID:14476-1649721600-1649807999@felicjanki-gorlice.pl
SUMMARY:Świąteczne rękodzieła - kiermasz
DESCRIPTION:
URL:https://felicjanki-gorlice.pl/uroczystosc/swiateczne-rekodziela-kiermasz-2/
LOCATION:Przedszkole Sióstr Felicjanek w Gorlicach\, ul. Krasińskiego 21\, Gorlice\, Młopolskie\, 38-300\, Polska
END:VEVENT
END:VCALENDAR