BEGIN:VCALENDAR
VERSION:2.0
PRODID:-//Przedszkole Niepubliczne Sióstr Felicjanek - ECPv5.2.1//NONSGML v1.0//EN
CALSCALE:GREGORIAN
METHOD:PUBLISH
X-WR-CALNAME:Przedszkole Niepubliczne Sióstr Felicjanek
X-ORIGINAL-URL:https://felicjanki-gorlice.pl
X-WR-CALDESC:Wydarzenia na Przedszkole Niepubliczne Sióstr Felicjanek
BEGIN:VTIMEZONE
TZID:Europe/Warsaw
BEGIN:DAYLIGHT
TZOFFSETFROM:+0100
TZOFFSETTO:+0200
TZNAME:CEST
DTSTART:20230326T010000
END:DAYLIGHT
BEGIN:STANDARD
TZOFFSETFROM:+0200
TZOFFSETTO:+0100
TZNAME:CET
DTSTART:20231029T010000
END:STANDARD
END:VTIMEZONE
BEGIN:VEVENT
DTSTART;VALUE=DATE:20230829
DTEND;VALUE=DATE:20230830
DTSTAMP:20260419T153053
CREATED:20230325T101504Z
LAST-MODIFIED:20230325T101504Z
UID:20258-1693267200-1693353599@felicjanki-gorlice.pl
SUMMARY:Spotkanie adaptacyjne
DESCRIPTION:
URL:https://felicjanki-gorlice.pl/uroczystosc/spotkanie-adaptacyjne/
END:VEVENT
END:VCALENDAR