BEGIN:VCALENDAR
VERSION:2.0
PRODID:-//Przedszkole Niepubliczne Sióstr Felicjanek - ECPv5.2.1//NONSGML v1.0//EN
CALSCALE:GREGORIAN
METHOD:PUBLISH
X-WR-CALNAME:Przedszkole Niepubliczne Sióstr Felicjanek
X-ORIGINAL-URL:https://felicjanki-gorlice.pl
X-WR-CALDESC:Wydarzenia na Przedszkole Niepubliczne Sióstr Felicjanek
BEGIN:VTIMEZONE
TZID:Europe/Warsaw
BEGIN:DAYLIGHT
TZOFFSETFROM:+0100
TZOFFSETTO:+0200
TZNAME:CEST
DTSTART:20230326T010000
END:DAYLIGHT
BEGIN:STANDARD
TZOFFSETFROM:+0200
TZOFFSETTO:+0100
TZNAME:CET
DTSTART:20231029T010000
END:STANDARD
END:VTIMEZONE
BEGIN:VEVENT
DTSTART;VALUE=DATE:20230915
DTEND;VALUE=DATE:20230916
DTSTAMP:20260419T153053
CREATED:20230905T160234Z
LAST-MODIFIED:20230906T171431Z
UID:21394-1694736000-1694822399@felicjanki-gorlice.pl
SUMMARY:Międzynarodowy Dzień Kropki
DESCRIPTION:
URL:https://felicjanki-gorlice.pl/uroczystosc/miedzynarodowy-dzien-kropki/
END:VEVENT
END:VCALENDAR