BEGIN:VCALENDAR
VERSION:2.0
PRODID:-//Przedszkole Niepubliczne Sióstr Felicjanek - ECPv5.2.1//NONSGML v1.0//EN
CALSCALE:GREGORIAN
METHOD:PUBLISH
X-WR-CALNAME:Przedszkole Niepubliczne Sióstr Felicjanek
X-ORIGINAL-URL:https://felicjanki-gorlice.pl
X-WR-CALDESC:Wydarzenia na Przedszkole Niepubliczne Sióstr Felicjanek
BEGIN:VTIMEZONE
TZID:Europe/Warsaw
BEGIN:DAYLIGHT
TZOFFSETFROM:+0100
TZOFFSETTO:+0200
TZNAME:CEST
DTSTART:20230326T010000
END:DAYLIGHT
BEGIN:STANDARD
TZOFFSETFROM:+0200
TZOFFSETTO:+0100
TZNAME:CET
DTSTART:20231029T010000
END:STANDARD
END:VTIMEZONE
BEGIN:VEVENT
DTSTART;VALUE=DATE:20230522
DTEND;VALUE=DATE:20230523
DTSTAMP:20260419T222657
CREATED:20230325T100749Z
LAST-MODIFIED:20230325T100749Z
UID:20239-1684713600-1684799999@felicjanki-gorlice.pl
SUMMARY:Dzień patronalny Różyczek św. Rity
DESCRIPTION:
URL:https://felicjanki-gorlice.pl/uroczystosc/dzien-patronalny-rozyczek-sw-rity/
END:VEVENT
END:VCALENDAR